BEGIN:VCALENDAR
VERSION:2.0
PRODID:-//Brushwood Center - ECPv6.15.10//NONSGML v1.0//EN
CALSCALE:GREGORIAN
METHOD:PUBLISH
X-WR-CALNAME:Brushwood Center
X-ORIGINAL-URL:https://brushwoodcenter.org
X-WR-CALDESC:Events for Brushwood Center
REFRESH-INTERVAL;VALUE=DURATION:PT1H
X-Robots-Tag:noindex
X-PUBLISHED-TTL:PT1H
BEGIN:VTIMEZONE
TZID:America/Chicago
BEGIN:DAYLIGHT
TZOFFSETFROM:-0600
TZOFFSETTO:-0500
TZNAME:CDT
DTSTART:20230312T080000
END:DAYLIGHT
BEGIN:STANDARD
TZOFFSETFROM:-0500
TZOFFSETTO:-0600
TZNAME:CST
DTSTART:20231105T070000
END:STANDARD
BEGIN:DAYLIGHT
TZOFFSETFROM:-0600
TZOFFSETTO:-0500
TZNAME:CDT
DTSTART:20240310T080000
END:DAYLIGHT
BEGIN:STANDARD
TZOFFSETFROM:-0500
TZOFFSETTO:-0600
TZNAME:CST
DTSTART:20241103T070000
END:STANDARD
BEGIN:DAYLIGHT
TZOFFSETFROM:-0600
TZOFFSETTO:-0500
TZNAME:CDT
DTSTART:20250309T080000
END:DAYLIGHT
BEGIN:STANDARD
TZOFFSETFROM:-0500
TZOFFSETTO:-0600
TZNAME:CST
DTSTART:20251102T070000
END:STANDARD
END:VTIMEZONE
BEGIN:VEVENT
DTSTART;TZID=America/Chicago:20240914T000000
DTEND;TZID=America/Chicago:20241027T235959
DTSTAMP:20260422T091603
CREATED:20240830T172019Z
LAST-MODIFIED:20240917T173804Z
UID:10000166-1726272000-1730073599@brushwoodcenter.org
SUMMARY:Radical Hope: Interactive Exhibition
DESCRIPTION:Real-time Visual Notes created by Ink Factory.\n\n\n\n\n\n\n\n\n\n\n\n\n\n\n\n\n\n\n\n\n\nRadical Hope\n\n\n\nRadical Hope: Building Climate Resilience for Healthy Communities\, the companion exhibition of the Smith Nature Symposium\, opens in the Brushwood Gallery on Saturday\, September 14th. \n\n\n\nCommunity connection and resilience are key to navigating an uncertain climate future\, but what makes a community resilient? What could a healthy future for all look like\, and how do we hold onto radical hope and joy in the face of such uncertainty and trauma? Explore the challenges facing humans and our ecosystems\, find new ways to build connections\, and learn about those working towards a better future for everyone in this interactive exhibition.  \n\n\n\n\n41st Smith nature symposium
URL:https://brushwoodcenter.org/event/radical-hope/
LOCATION:Brushwood Center at Ryerson Woods\, 21850 Riverwoods Rd.\, Riverwoods\, IL\, 60015\, United States
CATEGORIES:Art Exhibition
ATTACH;FMTTYPE=image/png:https://brushwoodcenter.org/wp-content/uploads/2024/08/Screenshot-2024-09-09-at-11.59.40 AM.png
END:VEVENT
BEGIN:VEVENT
DTSTART;TZID=America/Chicago:20240912T183000
DTEND;TZID=America/Chicago:20240912T200000
DTSTAMP:20260422T091603
CREATED:20240809T170632Z
LAST-MODIFIED:20240829T194957Z
UID:10000151-1726165800-1726171200@brushwoodcenter.org
SUMMARY:Watercolor Painting for Women Veterans and Families
DESCRIPTION:Watercolor Painting for Women Veterans and Families \n\n\n\nDevelop your unique artistic expression through watercolor painting. We will delight in the colorful\, transformative nature of the watercolor while also sharing factual information about the natural world and flowers. Student input and discussion are welcome!  \n\n\n\nClass taught by Gabrielle Tufano.—Art materials will be mailed to your home. If registering the day before or of the event\, please have your own materials at home – watercolor paint\, paper\, pencil.  \n\n\n\nActivity expectation is sitting. \n\n\n\nAvailable Accommodations: No language interpretation available. Virtual Class.  \n\n\n\nMaterials will be sent via Amazon\, you must register a week beforehand to receive materials.  \n\n\n\n\nREGIster
URL:https://brushwoodcenter.org/event/women-veterans-and-families-watercolor-painting/
CATEGORIES:Virtual
ATTACH;FMTTYPE=image/png:https://brushwoodcenter.org/wp-content/uploads/2024/08/Screenshot-2024-08-09-at-1.05.24 PM.png
LOCATION:
END:VEVENT
BEGIN:VEVENT
DTSTART;TZID=America/Chicago:20240910T100000
DTEND;TZID=America/Chicago:20240910T113000
DTSTAMP:20260422T091603
CREATED:20240809T015353Z
LAST-MODIFIED:20240823T191617Z
UID:10000058-1725962400-1725967800@brushwoodcenter.org
SUMMARY:Art Impact Project
DESCRIPTION:Art Impact Project\n\n\n\nArt Impact Project facilitates supportive art projects designed to provide participants a different way to express themselves through art-making.  With a focus on emotional wellness through creative expression\, Art Impact Project’s small-group environment gives participants the chance to self-reflect and safely share their observations.  Each 90-minute session involves the completion of an art project from start to finish.  Projects will vary from week to week\, exploring various art mediums and objectives. \n\n\n\n\nREGISTER
URL:https://brushwoodcenter.org/event/art-impact-project-2/
LOCATION:​Mundelein Park & Recreation Community Center\, ​888 Dunbar Road\, Mundelein\, IL\, 60060\, United States
CATEGORIES:Art Class
ATTACH;FMTTYPE=image/png:https://brushwoodcenter.org/wp-content/uploads/2024/08/Screenshot-2024-08-08-at-5.31.16 PM.png
END:VEVENT
BEGIN:VEVENT
DTSTART;TZID=America/Chicago:20240907T143000
DTEND;TZID=America/Chicago:20240907T190000
DTSTAMP:20260422T091603
CREATED:20240823T185351Z
LAST-MODIFIED:20240905T204820Z
UID:10000159-1725719400-1725735600@brushwoodcenter.org
SUMMARY:Paint and Photograph the Prairie
DESCRIPTION:Paint and Photograph the Prairie\n\n\n\nJoin Brushwood Center’s At Ease initiative in a special program at the Midewin Tallgrass Prairie to enjoy four hours of painting and photographing the prairie with U.S. Veteran artists and photographers. Increase your skills while enjoying the camaraderie of fellow Veterans!  \n\n\n\nCameras will be provided\, but feel free to bring your own! All art materials will be provided at the event. \n\n\n\n__ \n\n\n\nPlease note\, that this event is for Veterans\, current service members\, and their families only. \n\n\n\nSnacks will be provided. Please bring water. \n\n\n\nActivity Expectation: Walking\, possible uneven trails \n\n\n\nSensory Expectations: Prairie and forest landscape. Wear comfortable shoes. \n\n\n\nAvailable Accommodations: No language interpretation available. We have walking sticks available.  \n\n\n\nContact Jessica Klinge at jklinge@brushwoodcenter.org if you have mobility concerns.  \n\n\n\n\nREGIster
URL:https://brushwoodcenter.org/event/paintandphototheprairie/
LOCATION:Iron Bridge Trailhead\, Midewin Tallgrass Prairie\, Elwood\, Illinois\, 60042\, United States
CATEGORIES:Nature Outing
ATTACH;FMTTYPE=image/png:https://brushwoodcenter.org/wp-content/uploads/2024/08/Screenshot-2024-08-23-at-2.55.28 PM.png
END:VEVENT
BEGIN:VEVENT
DTSTART;TZID=America/Chicago:20240907T100000
DTEND;TZID=America/Chicago:20240907T120000
DTSTAMP:20260422T091603
CREATED:20240807T165842Z
LAST-MODIFIED:20240906T020030Z
UID:10000023-1725703200-1725710400@brushwoodcenter.org
SUMMARY:Growing Together: Down & Dirty Fertilizers
DESCRIPTION:Growing Together with From Hood to Table\n\n\n\nJoin us on select Saturdays this Summer for this family-friendly and science-based nature and food class series with Chef\, Urban Farmer\, and Sustainability Teacher Jeffrey Williams with From Hood to Table! Learn about the importance of working with nature to nourish our health and community. Families will enjoy classes throughout the Summer such as Gardening 101\, Garden Planning\, Cooking with Nature\, and more! ​ \n\n\n\nChildren must be accompanied by an adult. \n\n\n\nAll ages welcome!  \n\n\n\nNo need to attend the whole series\, you can sign up for any dates you’d like. \n\n\n\n \n\n\n\nSeptember 7th: Down and Dirty FertilizersMake your own organic indoor/outdoor fertilizers to help your grown at home food thrive! \n\n\n\n\nRegister
URL:https://brushwoodcenter.org/event/growing-together-2/
LOCATION:Brushwood Center at Ryerson Woods\, 21850 Riverwoods Rd.\, Riverwoods\, IL\, 60015\, United States
CATEGORIES:Family - Friendly
ATTACH;FMTTYPE=image/png:https://brushwoodcenter.org/wp-content/uploads/2024/08/Screenshot-2024-08-07-at-12.26.51 PM.png
END:VEVENT
BEGIN:VEVENT
DTSTART;TZID=America/Chicago:20240907T100000
DTEND;TZID=America/Chicago:20240907T110000
DTSTAMP:20260422T091603
CREATED:20240807T145232Z
LAST-MODIFIED:20240807T163445Z
UID:10000015-1725703200-1725706800@brushwoodcenter.org
SUMMARY:¡Hola! Wiggleworms
DESCRIPTION:¡Hola! Wiggleworms \n\n\n\nThis program is ideal for children ages 1-5\, but open to younger and older siblings too! \n\n\n\n¡Hola! Wiggleworms celebrates being bilingual! Rooted in traditional folk songs from Spanish-speaking countries around the world\, the class is alive with singing\, dancing\, and musical discovery. Children and their families delight in the musical play of Wiggleworms while they explore the Spanish language and experience the joy of learning language through music. \n\n\n\nAs your little one grows\, together you’ll learn our core songs—a beautiful collection of traditional and contemporary sing-along songs. Expect this class to be full of movement\, interaction\, and musical play with puppets\, shakers\, and props as children explore their emerging language skills. \n\n\n\nIf you are bilingual or just learning the Spanish language\, come delight in this musical experience with your little one. You will go home singing together in Spanish. Everyone is welcome to sing and dance! \n\n\n\n__ \n\n\n\n¡Hola! Wiggleworms es una celebración bilingüe. Con canciones tradicionales del mundo hispano\, esta clase vive del canto\, danza y descubrimiento musical. Disfrutando con la música\, niños y niñas junto con sus familias emprenderán un viaje explorando la lengua castellana y disfrutando la experiencia de aprender un lenguaje por medio de la música.​Durante el crecimiento de tu pequeño\, aprenderemos nuestras canciones comunes – una hermosa recopilación de canciones tradicionales y contemporáneas. Anticipa que esta clase este llena de movimiento\, intercambio y juegos con la música usando marionetas\, maracas\, y materiales didácticos durante el proceso de exploración de su hijo(a) mientras se emerge en el lenguaje usando sus propias habilidades. \n\n\n\nSi eres bilingüe o estas aprendiendo castellano\, te invitamos a disfrutar de nuestra música junto a tu pequeño(a). ¡Juntos se irán a casa cantando en español! ¡Todos serán bienvenidos a cantar y jugar! \n\n\n\n\nREGISTER
URL:https://brushwoodcenter.org/event/hola-wiggleworms-4/
LOCATION:Brushwood Center at Ryerson Woods\, 21850 Riverwoods Rd.\, Riverwoods\, IL\, 60015\, United States
CATEGORIES:Music Class
ATTACH;FMTTYPE=image/png:https://brushwoodcenter.org/wp-content/uploads/2024/08/Screenshot-2024-08-05-at-12.37.52 PM.png
END:VEVENT
BEGIN:VEVENT
DTSTART;TZID=America/Chicago:20240831T163000
DTEND;TZID=America/Chicago:20240831T183000
DTSTAMP:20260422T091603
CREATED:20240809T171230Z
LAST-MODIFIED:20240809T175134Z
UID:10000152-1725121800-1725129000@brushwoodcenter.org
SUMMARY:Nature Photography for Veterans and Families
DESCRIPTION:Nature Photography for Veterans and Families\n\n\n\nLearn about the basics of photography this Summer while exploring the natural beauty of Chicago with your fellow Veterans. DSLR cameras are provided for participants. You can also use your own cameras or cell phones if preferred. Families and all ages are welcomed.  \n\n\n\nSaturday\, August 31st: Jackson Park  \n\n\n\nActivity Expectation: Outdoors with walking trails. Please wear comfortable shoes.  \n\n\n\nSensory Expectations: Outdoors with some city noise.  \n\n\n\nAvailable Accommodations: No language interpretation available.  \n\n\n\nNo food will be served. ​Registration required. \n\n\n\n\nREGISTER
URL:https://brushwoodcenter.org/event/nature-photography-for-veterans-and-families/
LOCATION:Jackson Park\, 6401 S. Stony Island Ave.\, Chicago\, Illinois\, 60637
CATEGORIES:Nature Outing
ATTACH;FMTTYPE=image/png:https://brushwoodcenter.org/wp-content/uploads/2024/08/Screenshot-2024-08-09-at-1.11.42 PM.png
END:VEVENT
BEGIN:VEVENT
DTSTART;TZID=America/Chicago:20240831T100000
DTEND;TZID=America/Chicago:20240831T150000
DTSTAMP:20260422T091603
CREATED:20240808T164245Z
LAST-MODIFIED:20240820T143157Z
UID:10000026-1725098400-1725116400@brushwoodcenter.org
SUMMARY:BASE: Open Art Workshop
DESCRIPTION:BASE: Open Art Workshop\n\n\n\nYou Choose the Project · Use Tools and Supplies from BASE · Get Help When You Need It \n\n\n\nWant to learn to knit? Need to repair a mosaic? Want to try your hand at oil paints\, but don’t know where to start? There’s no need to sign up for a formal class or invest in lots of supplies just to give it a try! In this workshop series\, you get to decide the project\, and you get access to all the tools and supplies in BASE (Brushwood Art Supply Exchange)! \n\n\n\n​Projects can be big or small\, quick and easy or long-term and complex. You can work independently\, or work with an instructor who will help you get the supplies\, tools and knowledge you need to get started on the project of your choice. \n\n\n\nOpen Art Workshop is open to anyone who wants to make something in any area of visual arts and crafts\, from the professional artists looking for a community of others to work with\, to the complete novice who just wants to try something out in a low pressure environment\, or the family looking for a fun kids’ activity to fill their afternoon – this workshop is for you! \n\n\n\n\nREGISTER\n\n\n\n\n\n  \n              When Do BASE: Open Art Workshop’s Happen?\n      \n  \n    \n\n10am-3pm\, the last Saturday of every month\, starting February 2024 (Decembers off). Come anytime during the day\, and stay as long as you’d like. \n\n\n  \n\n\n\n\n\n  \n              What is the cost?\n      \n  \n    \n\nWorkspace\, use of our tools and any instruction or assistance you need is free; supplies from BASE are “pay what you want” (free to teachers and organizations). \n\n\n  \n\n\n\n\n\n  \n              What can I make?\n      \n  \n    \n\nAlmost* anything! Come with a project you want to work on in mind\, or pick one from our list of project ideas for all ages and abilities. You are welcome to bring your own supplies and tools\, or use ones from BASE You can work independently\, or work with an instructor. \n\n\n\nIf you have questions about BASE: Open Art Workshops\, please contact Julia Kemerer at 224-633-2426 or jkemerer@brushwoodcenter.org. 
URL:https://brushwoodcenter.org/event/base-open-art-workshops/
LOCATION:Brushwood Center at Ryerson Woods\, 21850 Riverwoods Rd.\, Riverwoods\, IL\, 60015\, United States
CATEGORIES:Art Class
ATTACH;FMTTYPE=image/png:https://brushwoodcenter.org/wp-content/uploads/2024/08/Screenshot-2024-08-08-at-12.48.32 PM.png
END:VEVENT
BEGIN:VEVENT
DTSTART;TZID=America/Chicago:20240824T190000
DTEND;TZID=America/Chicago:20240824T210000
DTSTAMP:20260422T091603
CREATED:20240809T175932Z
LAST-MODIFIED:20240809T182824Z
UID:10000153-1724526000-1724533200@brushwoodcenter.org
SUMMARY:Convergence: Health Equity in a Changing Climate
DESCRIPTION:​Convergence: Health Equity in a Changing Climate\n\n\n\nTickets on Sale Now for Waukegan performance!  \n\n\n\nJoin us for the second performance of the Summer! Convergence\, Brushwood’s newly premiered signature concert experience\, translates data on health equity in our community to art.  \n\n\n\nWhat is the number one predictor of health in the United States? Your zip code.​Across our nation\, how long you live is determined by where you live. Our health is shaped by our environment\, our ability to access nature\, and the systems that support our communities. Convergence: Health Equity in a Changing Climate brings the findings\, data\, and stories of Brushwood’s Health\, Equity\, and Nature Accelerator Report to the stage! Black Moon Trio guides us through this important data through original music\, videography\, visual art\, and storytelling.  \n\n\n\nWe witness transformative experiences in nature\, the lived effects of environmental racism\, and Brushwood’s recommendations for actions towards a more resilient future! \n\n\n\n\nPURCHASE TICKETS \n\n\n\nlearn more
URL:https://brushwoodcenter.org/event/convergence-health-equity-in-a-changing-climate/
LOCATION:Jack Benny Center for the Arts\, 39 Jack Benny Drive\, Waukegan\, Illnois\, 60087\, United States
CATEGORIES:Music Performance
ATTACH;FMTTYPE=image/png:https://brushwoodcenter.org/wp-content/uploads/2024/08/Screenshot-2024-08-09-at-2.00.36 PM.png
END:VEVENT
BEGIN:VEVENT
DTSTART;TZID=America/Chicago:20240824T100000
DTEND;TZID=America/Chicago:20240824T120000
DTSTAMP:20260422T091603
CREATED:20240807T161638Z
LAST-MODIFIED:20240807T170031Z
UID:10000018-1724493600-1724500800@brushwoodcenter.org
SUMMARY:Growing Together: Cooking Together with Nature
DESCRIPTION:Growing Together with From Hood to Table\n\n\n\nJoin us on select Saturdays this Summer for family-friendly and science-based nature and food class series with Chef\, Urban Farmer\, and Sustainability Teacher Jeffrey Williams with From Hood to Table! Learn about the importance of working with nature to nourish our health and community. Families will enjoy classes throughout the Summer such as Gardening 101\, Garden Planning\, Cooking with Nature\, and more! ​ \n\n\n\nChildren must be accompanied by an adult. \n\n\n\nAll ages welcome!  \n\n\n\nNo need to attend the whole series\, you can sign up for any dates you’d like. \n\n\n\n \n\n\n\nAugust 24th: Cooking Together with Nature Learn how to cook a delicious meal by collecting and repurposing food waste! \n\n\n\n\nRegister
URL:https://brushwoodcenter.org/event/growing-together/
LOCATION:Brushwood Center at Ryerson Woods\, 21850 Riverwoods Rd.\, Riverwoods\, IL\, 60015\, United States
CATEGORIES:Family - Friendly
ATTACH;FMTTYPE=image/png:https://brushwoodcenter.org/wp-content/uploads/2024/08/Screenshot-2024-08-07-at-12.26.51 PM.png
END:VEVENT
BEGIN:VEVENT
DTSTART;TZID=America/Chicago:20240824T100000
DTEND;TZID=America/Chicago:20240824T110000
DTSTAMP:20260422T091603
CREATED:20240807T162952Z
LAST-MODIFIED:20240815T121118Z
UID:10000014-1724493600-1724497200@brushwoodcenter.org
SUMMARY:¡Hola! Wiggleworms
DESCRIPTION:¡Hola! Wiggleworms \n\n\n\nThis program is ideal for children ages 1-5\, but open to younger and older siblings too! \n\n\n\n¡Hola! Wiggleworms celebrates being bilingual! Rooted in traditional folk songs from Spanish-speaking countries around the world\, the class is alive with singing\, dancing\, and musical discovery. Children and their families delight in the musical play of Wiggleworms while they explore the Spanish language and experience the joy of learning language through music. \n\n\n\nAs your little one grows\, together you’ll learn our core songs—a beautiful collection of traditional and contemporary sing-along songs. Expect this class to be full of movement\, interaction\, and musical play with puppets\, shakers\, and props as children explore their emerging language skills. \n\n\n\nIf you are bilingual or just learning the Spanish language\, come delight in this musical experience with your little one. You will go home singing together in Spanish. Everyone is welcome to sing and dance! \n\n\n\n__ \n\n\n\n¡Hola! Wiggleworms es una celebración bilingüe. Con canciones tradicionales del mundo hispano\, esta clase vive del canto\, danza y descubrimiento musical. Disfrutando con la música\, niños y niñas junto con sus familias emprenderán un viaje explorando la lengua castellana y disfrutando la experiencia de aprender un lenguaje por medio de la música.​Durante el crecimiento de tu pequeño\, aprenderemos nuestras canciones comunes – una hermosa recopilación de canciones tradicionales y contemporáneas. Anticipa que esta clase este llena de movimiento\, intercambio y juegos con la música usando marionetas\, maracas\, y materiales didácticos durante el proceso de exploración de su hijo(a) mientras se emerge en el lenguaje usando sus propias habilidades. \n\n\n\nSi eres bilingüe o estas aprendiendo castellano\, te invitamos a disfrutar de nuestra música junto a tu pequeño(a). ¡Juntos se irán a casa cantando en español! ¡Todos serán bienvenidos a cantar y jugar! \n\n\n\n\nREGISTER
URL:https://brushwoodcenter.org/event/hola-wiggleworms-6/
LOCATION:Brushwood Center at Ryerson Woods\, 21850 Riverwoods Rd.\, Riverwoods\, IL\, 60015\, United States
CATEGORIES:Music Class
ATTACH;FMTTYPE=image/png:https://brushwoodcenter.org/wp-content/uploads/2024/08/Screenshot-2024-08-05-at-12.37.52 PM.png
END:VEVENT
BEGIN:VEVENT
DTSTART;TZID=America/Chicago:20240821T183000
DTEND;TZID=America/Chicago:20240821T213000
DTSTAMP:20260422T091603
CREATED:20240809T165746Z
LAST-MODIFIED:20240815T170838Z
UID:10000150-1724265000-1724275800@brushwoodcenter.org
SUMMARY:Veterans Acrylic Paint & Sip Nights
DESCRIPTION:Veterans Acrylic Paint & Sip Nights\n\n\n\nJoin us for a fun and relaxing acrylic paint event led by Veteran and Artist\, Ramona Pozek. ​This event promises to be both educational and therapeutic. Leave with a hand painted masterpiece that you will be able to take home with you!All skill levels welcomed.Non-alcoholic drinks\, beer and wine will be available for purchase with the American Legion Cicero Post 96.​ Small snack items will be available for free.Brought to you by Brushwood Center’s At Ease Program\, Veteran Art Tribe\, and the American Legion Cicero Post #96!​Registration is required. \n\n\n\n\nREGISTER
URL:https://brushwoodcenter.org/event/veterans-acrylic-paint-sip-nights/
LOCATION:American Legion Cicero Post 96\, 5820 W 35th St\, Cicero\, Illinois\, 60804
CATEGORIES:Art Class
ATTACH;FMTTYPE=image/png:https://brushwoodcenter.org/wp-content/uploads/2024/08/Screenshot-2024-08-09-at-12.44.38 PM.png
END:VEVENT
BEGIN:VEVENT
DTSTART;TZID=America/Chicago:20240820T100000
DTEND;TZID=America/Chicago:20240820T113000
DTSTAMP:20260422T091603
CREATED:20240809T015713Z
LAST-MODIFIED:20240913T185658Z
UID:10000030-1724148000-1724153400@brushwoodcenter.org
SUMMARY:Art Impact Project
DESCRIPTION:Art Impact Project\n\n\n\nArt Impact Project facilitates supportive art projects designed to provide participants a different way to express themselves through art-making.  With a focus on emotional wellness through creative expression\, Art Impact Project’s small-group environment gives participants the chance to self-reflect and safely share their observations.  Each 90-minute session involves the completion of an art project from start to finish.  Projects will vary from week to week\, exploring various art mediums and objectives. \n\n\n\n\nREGISTER
URL:https://brushwoodcenter.org/event/art-impact-project-4/
LOCATION:​Mundelein Park & Recreation Community Center\, ​888 Dunbar Road\, Mundelein\, IL\, 60060\, United States
CATEGORIES:Art Class
ATTACH;FMTTYPE=image/png:https://brushwoodcenter.org/wp-content/uploads/2024/08/Screenshot-2024-08-08-at-5.31.16 PM.png
END:VEVENT
BEGIN:VEVENT
DTSTART;TZID=America/Chicago:20240817T140000
DTEND;TZID=America/Chicago:20240817T163000
DTSTAMP:20260422T091603
CREATED:20240807T185208Z
LAST-MODIFIED:20240816T192726Z
UID:10000025-1723903200-1723912200@brushwoodcenter.org
SUMMARY:Metamorphosis Closing Walkthrough & Outdoor Concert 
DESCRIPTION:Metamorphosis Closing Walkthrough & Concert \n\n\n\nJoin us to celebrate a successful run of our Summer exhibition\, Metamorphosis: Emerging from the Dark\, with an exhibition walkthrough with the curator of Metamorphosis\, Director of Arts and Administration\, Julia Kemerer followed by a free outdoor concert! The concert will showcase Joel Styzens’ newest contemporary album Resonance\, featuring cellist Herine Coetzee Koschak\, and violinist\, Jinty McTavish\, as well as brand new music.  \n\n\n\nJoel Styzens is a critically-acclaimed multi-instrumentalist\, composer\, recording artist\, educator and hearing conservation advocate. Styzens creates intimate\, colorfully-rich music that is presented in an accessible form that encourages pause\, refection and helps people to de-noise\, relax\, soothe\, and recharge. His newest album\, Resonance\, was named a “Top 10 best contemporary album of 2023” by The Guardian. The BBC calls it “open-hearted” and NPR says\, “Phenomenal music.”. ​Catch the last opportunity to view Metamorphosis\, and then stay to hear a relaxing concert amongst nature!  \n\n\n\n2-3 pm | Exhibition Walkthrough \n\n\n\n3-4:30pm | Outdoor Concert with Joel Styzens\, Herine Coetzee Koschak\, and Jinty McTavish \n\n\n\n​The concert will take place outside\, on the front porch of Brushwood Center. Please bring a chair or blanket and plan for outdoor weather. Rain location will be in The Great Room. \n\n\n\n\nREGISTER\n\n\n\n\n\n\n\n\n\n\n\n\n\n\n\n\n\n\n\n\n\n\nJoel Styzens is an award-winning and critically acclaimed multi-instrumentalist\, composer\, recording artist\, producer\, educator and hearing conservation advocate specializing in piano\, hammered dulcimer\, drums\, percussion and guitar.​He has toured nationally and internationally and has been featured on NPR\, Chicago’s nationally syndicated WGN and Fox television news broadcasts\, and in such publications as Time Out\, The National Music Examiner and The UK Hearing Times. \n\n\n\n\nLearn mORE
URL:https://brushwoodcenter.org/event/metamorphosis-closing-walkthrough-concert/
LOCATION:Brushwood Center at Ryerson Woods\, 21850 Riverwoods Rd.\, Riverwoods\, IL\, 60015\, United States
CATEGORIES:Music Performance
ATTACH;FMTTYPE=image/png:https://brushwoodcenter.org/wp-content/uploads/2024/08/Screenshot-2024-08-07-at-2.53.37 PM.png
END:VEVENT
BEGIN:VEVENT
DTSTART;TZID=America/Chicago:20240814T190000
DTEND;TZID=America/Chicago:20240814T210000
DTSTAMP:20260422T091603
CREATED:20240807T182717Z
LAST-MODIFIED:20260210T162716Z
UID:10000024-1723662000-1723669200@brushwoodcenter.org
SUMMARY:BASE: Create & Sip - Broken Dish Mosaics
DESCRIPTION:BASE: Create & Sip – Broken Dish Mosaics \n\n\n\n​As you craft away\, enjoy the company of fellow art enthusiasts in a relaxed and welcoming atmosphere while listening to a craft-themed musical soundtrack. Feel free to bring your favorite beverage (BYOB 21 and over)\, and some snacks to enjoy as you immerse yourself in the creative process. At the end of the class\, you’ll leave with your own handmade mosaic piece as well as the supplies and knowledge to complete the project with grout once it has a chance to dry and set (the next day is ideal). Plus\, you’ll take home newfound skills and inspiration to continue your crafting journey beyond the class! \n\n\n\nWe will be using materials and supplies from BASE (Brushwood Art Supply Exchange) that will include a mix of new materials alongside the repurposed and reimagined. We will have a variety of objects available to use for your mosaic project\, including flower pots\, trays\, and other vessels. We will have all the tools and supplies on hand\, but if you have a dish or other ceramic piece of your own you would like to bring and incorporate into your artwork\, you are welcome to bring it!  \n\n\n\nEveryone’s project will be unique\, and creativity is highly encouraged.  \n\n\n\n\nREGISTER
URL:https://brushwoodcenter.org/event/base-create-and-sip/
LOCATION:Brushwood Center at Ryerson Woods\, 21850 Riverwoods Rd.\, Riverwoods\, IL\, 60015\, United States
CATEGORIES:Art Class
ATTACH;FMTTYPE=image/png:https://brushwoodcenter.org/wp-content/uploads/2024/08/Screenshot-2024-08-07-at-2.24.35 PM.png
END:VEVENT
BEGIN:VEVENT
DTSTART;TZID=America/Chicago:20240608T130000
DTEND;TZID=America/Chicago:20240817T150000
DTSTAMP:20260422T091603
CREATED:20240810T145615Z
LAST-MODIFIED:20240813T185652Z
UID:10000155-1717851600-1723906800@brushwoodcenter.org
SUMMARY:Metamorphosis: Emerging from the Dark
DESCRIPTION:Metamorphosis: Emerging from the Dark\n\n\n\nOn View in The Brushwood Gallery June 8th – August 17th during Open Hours  \n\n\n\nThe Brood XIII cicadas have emerged from their 17-year underground slumber to fill the trees with their vibrating sounds! Inspired by this extraordinary natural phenomenon\, Brushwood Center presents Metamorphosis: Emerging from the Dark. As these creatures spread their newfound wings\, Metamorphosis features the work of over 30 local artists exploring the themes of transformation\, rebirth\, and the journey from darkness to light. \n\n\n\n\n\n\n\nFeatured Artists:  \n\n\n\nGabriela Almonte | Leslie Armstrong | Rachel Balter | Corky Barsky | Gillian Butcher | Monica Cardestam | Sinead Carus | Ashley ChanRalph Skunkie Davis | Kenzie Elizabeth | Tammy Haman | Mark Hawk | Jenny Hulen| Ruth Hutter | Holly JansenJulia Kemerer | Sam Kennedy | Kendra Kett | Marina Kuchinski | Leslie Lenz | Phyllis Levun-Agostino | Julie Mader-Meersman Lisa Mannion | Wendi Napoli | Anna Nardulli | Carma Lynn Park |​ Susan Schneider | Georgia Schwender | Megan Senate | Michelle ShostakCheryl Steiger | Raychel Steinbach | Swen Swihart-Decoster | Judy Woznyj  \n\n\n\nOn View in The Brushwood Gallery June 8th – August 17th during Open Hours  \n\n\n\n\nVisit Us
URL:https://brushwoodcenter.org/event/metamorphosis/
LOCATION:Brushwood Center at Ryerson Woods\, 21850 Riverwoods Rd.\, Riverwoods\, IL\, 60015\, United States
CATEGORIES:Art Exhibition
ATTACH;FMTTYPE=image/png:https://brushwoodcenter.org/wp-content/uploads/2024/08/Screenshot-2024-08-05-at-12.27.23 PM.png
END:VEVENT
END:VCALENDAR