BEGIN:VCALENDAR
VERSION:2.0
PRODID:-//Brushwood Center - ECPv6.15.10//NONSGML v1.0//EN
CALSCALE:GREGORIAN
METHOD:PUBLISH
X-ORIGINAL-URL:https://brushwoodcenter.org
X-WR-CALDESC:Events for Brushwood Center
REFRESH-INTERVAL;VALUE=DURATION:PT1H
X-Robots-Tag:noindex
X-PUBLISHED-TTL:PT1H
BEGIN:VTIMEZONE
TZID:America/Chicago
BEGIN:DAYLIGHT
TZOFFSETFROM:-0600
TZOFFSETTO:-0500
TZNAME:CDT
DTSTART:20240310T080000
END:DAYLIGHT
BEGIN:STANDARD
TZOFFSETFROM:-0500
TZOFFSETTO:-0600
TZNAME:CST
DTSTART:20241103T070000
END:STANDARD
BEGIN:DAYLIGHT
TZOFFSETFROM:-0600
TZOFFSETTO:-0500
TZNAME:CDT
DTSTART:20250309T080000
END:DAYLIGHT
BEGIN:STANDARD
TZOFFSETFROM:-0500
TZOFFSETTO:-0600
TZNAME:CST
DTSTART:20251102T070000
END:STANDARD
BEGIN:DAYLIGHT
TZOFFSETFROM:-0600
TZOFFSETTO:-0500
TZNAME:CDT
DTSTART:20260308T080000
END:DAYLIGHT
BEGIN:STANDARD
TZOFFSETFROM:-0500
TZOFFSETTO:-0600
TZNAME:CST
DTSTART:20261101T070000
END:STANDARD
END:VTIMEZONE
BEGIN:VEVENT
DTSTART;TZID=America/Chicago:20251025T100000
DTEND;TZID=America/Chicago:20251025T150000
DTSTAMP:20260421T172031
CREATED:20251007T160950Z
LAST-MODIFIED:20251007T161645Z
UID:10000339-1761386400-1761404400@brushwoodcenter.org
SUMMARY:BASE: Open Art Workshop with Julia Kemerer
DESCRIPTION:You Choose the Project · Use Tools and Supplies From BASE · Get Help When You Need It\n\n\n\nOpen Art Workshop is open to anyone who wants to make something in any area of visual arts and crafts\, from the experienced artist looking for a community of others to work with\, to the complete novice who just wants to try something out in a low pressure environment\, or the family looking for a fun kids’ activity to fill their afternoon – this workshop is for you! \n\n\n\nThis month\, our upcoming November Artist of the Month\, Julia Kemerer will be our guest artist. Julia is a mixed media artist and an avid maker of all things. She paints and sculpts with paper\, found objects\, fabric\, wood\, and clay\, and has a passion for creative reuse\, or what she refers to as “using what you have to make what you need.”. Stop by to learn from Julia! \n\n\n\nWHEN DOES IT HAPPEN? 10am-3pm\, the last Saturday of every month (no meetings in November and December 2025). Come anytime during the day\, and stay as long as you’d like. \n\n\n\nWHAT DOES IT COST? Workspace\, use of our tools and any instruction or assistance you need is free; supplies from BASE are “pay what you want” (free to teachers and organizations). \n\n\n\nWHAT CAN I MAKE? Almost* anything! Come with a project you want to work on in mind\, or pick one from our list of project ideas for all ages and abilities. You are welcome to bring your own supplies and tools\, or use ones from BASE. You can work independently\, or work with an instructor. Here are just a few ideas of what you can learn and do at the Open Art Workshop: \n\n\n\nWatercolor · Embroidery · Mosaics · Book Binding · Charcoal Drawing · Knitting & Crochet · Decoupage · Sewing & Mending · Jewelry Making · Plein Air Painting · Basket Weaving · Picture Framing · Card Making · Kids Art Projects · Block Printing · Stained Glass · Acrylic Painting · Costume Making · Weaving · Collage · UpCycling · Gift Wrapping · Sculpture · Upholstery · Colored Pencil · Wreath Making · Beading · Rubber Stamps · Oil Painting · Quilting · Pastels · Macramé · Miniatures \n\n\n\n*We will do our best to accommodate all types of projects\, but there may be limitations on what is possible on a particular day due to limitations of space\, supplies or tools (supplies and tools are mostly donated\, and what is available is always changing)\, or due to a particular project being too messy or dangerous to be done in a public space. If a particular project cannot be worked on during the Workshop that day\, we will do our best to help you figure out how to proceed on a future Workshop date or on your own. Since this Workshop is open to ALL topics and media\, we won’t be experts on everything\, but we can definitely help you get started. \n\n\n\nIf you have questions about Open Art Workshop or BASE\, please contact Julia Kemerer at 224-633-2426 or jkemerer@brushwoodcenter.org. \n\n\n\n \n\n\n\n\nREGISter
URL:https://brushwoodcenter.org/event/base-open-art-workshop-with-julia-kemerer/
LOCATION:Brushwood Center at Ryerson Woods\, 21850 Riverwoods Rd.\, Riverwoods\, IL\, 60015\, United States
CATEGORIES:Art Class,Family - Friendly
ATTACH;FMTTYPE=image/png:https://brushwoodcenter.org/wp-content/uploads/2025/04/Screenshot-2025-04-28-at-12-57-11-BASE-OPEN-ART-Artist-of-Month-WEB-SQUARE.pdf.png
END:VEVENT
END:VCALENDAR