BEGIN:VCALENDAR
VERSION:2.0
PRODID:-//Brushwood Center - ECPv6.15.10//NONSGML v1.0//EN
CALSCALE:GREGORIAN
METHOD:PUBLISH
X-ORIGINAL-URL:https://brushwoodcenter.org
X-WR-CALDESC:Events for Brushwood Center
REFRESH-INTERVAL;VALUE=DURATION:PT1H
X-Robots-Tag:noindex
X-PUBLISHED-TTL:PT1H
BEGIN:VTIMEZONE
TZID:America/Chicago
BEGIN:DAYLIGHT
TZOFFSETFROM:-0600
TZOFFSETTO:-0500
TZNAME:CDT
DTSTART:20240310T080000
END:DAYLIGHT
BEGIN:STANDARD
TZOFFSETFROM:-0500
TZOFFSETTO:-0600
TZNAME:CST
DTSTART:20241103T070000
END:STANDARD
BEGIN:DAYLIGHT
TZOFFSETFROM:-0600
TZOFFSETTO:-0500
TZNAME:CDT
DTSTART:20250309T080000
END:DAYLIGHT
BEGIN:STANDARD
TZOFFSETFROM:-0500
TZOFFSETTO:-0600
TZNAME:CST
DTSTART:20251102T070000
END:STANDARD
BEGIN:DAYLIGHT
TZOFFSETFROM:-0600
TZOFFSETTO:-0500
TZNAME:CDT
DTSTART:20260308T080000
END:DAYLIGHT
BEGIN:STANDARD
TZOFFSETFROM:-0500
TZOFFSETTO:-0600
TZNAME:CST
DTSTART:20261101T070000
END:STANDARD
END:VTIMEZONE
BEGIN:VEVENT
DTSTART;TZID=America/Chicago:20250917T190000
DTEND;TZID=America/Chicago:20250917T210000
DTSTAMP:20260421T184607
CREATED:20250602T164134Z
LAST-MODIFIED:20250602T164136Z
UID:10000308-1758135600-1758142800@brushwoodcenter.org
SUMMARY:BASE: Create & Sip - Clay Ornaments
DESCRIPTION:BASE: Create & Sip – Clay Ornaments with Kirsten Saunders\n\n\n\nCreate & Sip is a monthly workshop hosted at Brushwood Center where participants can explore fun projects using supplies and tools from the Brushwood Art Supply Exchange\, BASE. It’s an opportunity to get creative\, try something new\, and enjoy the company of fellow art enthusiasts in a relaxed and welcoming atmosphere. \n\n\n\nThis month’s class will be led by September’s Artist of the Month\, Kirsten Saunders\, who will teach us to make Clay Ornaments. Use clay\, large cookie cutters and clay stamps to create your own ornaments for any occasion. Great for ages 10+. Working with clay relieves stress\, increases focus\, and engages both hands and mind. It’s a fun way to expand your creative and expressive repertoire! You can also see Kirsten’s work displayed in the Brushwood Center Gallery from August 30 – September 27. \n\n\n\nWe’ll have a variety of supplies and tools available. Everyone’s project will be unique. No experience necessary\, all skill levels are welcome. \n\n\n\nAbout the Artist: \n\n\n\nKirsten began working with clay in college in 1982 and was hooked right away. Though her B.A. is in Psychology/Sociology\, she took many fine art classes and workshops through the years to hone her skills and develop her own style. She taught children’s art classes while raising her own children\, and still enjoys teaching occasionally and experiencing children’s playfulness and discovery. She is most inspired by her ever changing garden\, whimsy\, and her love of nature and it’s amazing creatures. Each piece is one of a kind\, created in her home studio in Gurnee Illinois. Working mostly with Terra Cotta clay\, pieces are wheel thrown\, hand built\, or a construction of both. Her mosaics are a blend of crockery\, her own pottery\, glass and other enticing items. \n\n\n\nWhat to Bring: \n\n\n\n\nYour favorite beverage (alcohol is allowed for those 21 +) \n\n\n\nSome snacks to enjoy as you immerse yourself in the creative process\n\n\n\nYour friends (make sure they register!)\n\n\n\nAny extra supplies you want to incorporate into your project (Optional! We have lots of supplies!)\n\n\n\n\nQuestions? Please contact Director of Public Programs and Music\, Parker Nelson at pnelson@brushwoodcenter.org$20/person. Please register by September 15. BYOB.  \n\n\n\n\nregister
URL:https://brushwoodcenter.org/event/base-create-sip-clay-ornaments/
LOCATION:Brushwood Center at Ryerson Woods\, 21850 Riverwoods Rd.\, Riverwoods\, IL\, 60015\, United States
CATEGORIES:Art Class
ATTACH;FMTTYPE=image/png:https://brushwoodcenter.org/wp-content/uploads/2025/02/BASE-CREATE-SIP-SQUARE.png
END:VEVENT
BEGIN:VEVENT
DTSTART;TZID=America/Chicago:20250927T100000
DTEND;TZID=America/Chicago:20250927T150000
DTSTAMP:20260421T184607
CREATED:20250911T155608Z
LAST-MODIFIED:20250911T155610Z
UID:10000332-1758967200-1758985200@brushwoodcenter.org
SUMMARY:BASE: Open Art Workshop with Alexandra Ok
DESCRIPTION:You Choose the Project · Use Tools and Supplies From BASE · Get Help When You Need It\n\n\n\nOpen Art Workshop is open to anyone who wants to make something in any area of visual arts and crafts\, from the experienced artist looking for a community of others to work with\, to the complete novice who just wants to try something out in a low pressure environment\, or the family looking for a fun kids’ activity to fill their afternoon – this workshop is for you! \n\n\n\nThis month\, our upcoming October Artist of the Month\, Alexandra Ok will be our guest artist. Alexandra is a Midwest- based painter showcasing the beauty of queer community. Stop by to learn from Alexandra! \n\n\n\nWHEN DOES IT HAPPEN? 10am-3pm\, the last Saturday of every month (no meetings in November and December 2025). Come anytime during the day\, and stay as long as you’d like. \n\n\n\nWHAT DOES IT COST? Workspace\, use of our tools and any instruction or assistance you need is free; supplies from BASE are “pay what you want” (free to teachers and organizations). \n\n\n\nWHAT CAN I MAKE? Almost* anything! Come with a project you want to work on in mind\, or pick one from our list of project ideas for all ages and abilities. You are welcome to bring your own supplies and tools\, or use ones from BASE. You can work independently\, or work with an instructor. Here are just a few ideas of what you can learn and do at the Open Art Workshop: \n\n\n\nWatercolor · Embroidery · Mosaics · Book Binding · Charcoal Drawing · Knitting & Crochet · Decoupage · Sewing & Mending · Jewelry Making · Plein Air Painting · Basket Weaving · Picture Framing · Card Making · Kids Art Projects · Block Printing · Stained Glass · Acrylic Painting · Costume Making · Weaving · Collage · UpCycling · Gift Wrapping · Sculpture · Upholstery · Colored Pencil · Wreath Making · Beading · Rubber Stamps · Oil Painting · Quilting · Pastels · Macramé · Miniatures \n\n\n\n*We will do our best to accommodate all types of projects\, but there may be limitations on what is possible on a particular day due to limitations of space\, supplies or tools (supplies and tools are mostly donated\, and what is available is always changing)\, or due to a particular project being too messy or dangerous to be done in a public space. If a particular project cannot be worked on during the Workshop that day\, we will do our best to help you figure out how to proceed on a future Workshop date or on your own. Since this Workshop is open to ALL topics and media\, we won’t be experts on everything\, but we can definitely help you get started. \n\n\n\nIf you have questions about Open Art Workshop or BASE\, please contact Julia Kemerer at 224-633-2426 or jkemerer@brushwoodcenter.org. \n\n\n\n \n\n\n\n\nREGISter
URL:https://brushwoodcenter.org/event/base-open-art-workshop-with-alexandra-ok/
LOCATION:Brushwood Center at Ryerson Woods\, 21850 Riverwoods Rd.\, Riverwoods\, IL\, 60015\, United States
CATEGORIES:Art Class,Family - Friendly
ATTACH;FMTTYPE=image/png:https://brushwoodcenter.org/wp-content/uploads/2025/04/Screenshot-2025-04-28-at-12-57-11-BASE-OPEN-ART-Artist-of-Month-WEB-SQUARE.pdf.png
END:VEVENT
END:VCALENDAR