BEGIN:VCALENDAR
VERSION:2.0
PRODID:-//Brushwood Center - ECPv6.15.10//NONSGML v1.0//EN
CALSCALE:GREGORIAN
METHOD:PUBLISH
X-ORIGINAL-URL:https://brushwoodcenter.org
X-WR-CALDESC:Events for Brushwood Center
REFRESH-INTERVAL;VALUE=DURATION:PT1H
X-Robots-Tag:noindex
X-PUBLISHED-TTL:PT1H
BEGIN:VTIMEZONE
TZID:America/Chicago
BEGIN:DAYLIGHT
TZOFFSETFROM:-0600
TZOFFSETTO:-0500
TZNAME:CDT
DTSTART:20240310T080000
END:DAYLIGHT
BEGIN:STANDARD
TZOFFSETFROM:-0500
TZOFFSETTO:-0600
TZNAME:CST
DTSTART:20241103T070000
END:STANDARD
BEGIN:DAYLIGHT
TZOFFSETFROM:-0600
TZOFFSETTO:-0500
TZNAME:CDT
DTSTART:20250309T080000
END:DAYLIGHT
BEGIN:STANDARD
TZOFFSETFROM:-0500
TZOFFSETTO:-0600
TZNAME:CST
DTSTART:20251102T070000
END:STANDARD
BEGIN:DAYLIGHT
TZOFFSETFROM:-0600
TZOFFSETTO:-0500
TZNAME:CDT
DTSTART:20260308T080000
END:DAYLIGHT
BEGIN:STANDARD
TZOFFSETFROM:-0500
TZOFFSETTO:-0600
TZNAME:CST
DTSTART:20261101T070000
END:STANDARD
END:VTIMEZONE
BEGIN:VEVENT
DTSTART;TZID=America/Chicago:20250105T130000
DTEND;TZID=America/Chicago:20250223T150000
DTSTAMP:20260423T191043
CREATED:20241216T162550Z
LAST-MODIFIED:20250107T202910Z
UID:10000249-1736082000-1740322800@brushwoodcenter.org
SUMMARY:Singularity is a Forest
DESCRIPTION:Singularity is a Forest\n\n\n\nSingularity is a Forest is an exhibition of photography and poetry by Mexico City artist Álvaro Alejandro López. \n\n\n\nHe describes his series: “In our different languages the trees are mainly a generic symbol. However\, if we contemplate them closely\, we will find in them the diverse and the singular.This series is an aesthetic approach to the features and scars that give life to the individuality of each tree.” \n\n\n\nThe exhibition is open to the public during regular operating hours at Brushwood Center at Ryerson Woods. Join us on Saturday\, January 25th from 1:00 – 3:00 pm for a reception and program about the exhibition and its themes.  \n\n\n\n\nRegister for the reception
URL:https://brushwoodcenter.org/event/singularity-is-a-forest/
LOCATION:Brushwood Center at Ryerson Woods\, 21850 Riverwoods Rd.\, Riverwoods\, IL\, 60015\, United States
CATEGORIES:Art Exhibition
ATTACH;FMTTYPE=image/png:https://brushwoodcenter.org/wp-content/uploads/2024/12/Singularity-Web-Square.png
END:VEVENT
BEGIN:VEVENT
DTSTART;TZID=America/Chicago:20250110T100000
DTEND;TZID=America/Chicago:20250110T113000
DTSTAMP:20260423T191043
CREATED:20241111T235235Z
LAST-MODIFIED:20241126T151904Z
UID:10000205-1736503200-1736508600@brushwoodcenter.org
SUMMARY:Water(color) for the Soul: Music of Lake Michigan
DESCRIPTION:Water(color) for the Soul: Music of Lake Michigan\n\n\n\nReturning by popular demand\, Black Moon Trio guides Veterans from the Captain James A. Lovell Federal Health Care Center and We Serve: Special Recreation Association for Central Lake County to create and perform their very own musical compositions. Using resources from Brushwood Center’s At Ease and Art Supply Exchange programs\, Veterans participate in a six-week graphic score and poetry composition residency culminating in the creation of 20 original pieces of music performed and recorded by professional musicians.Black Moon Trio is honored to again be joined by world-renowned botanical artist\, Heeyoung Kim and members of her Botanical Art Academy to showcase watercolor painting methods and techniques. Poet and creativity expert Kathryn Haydon also joins the team as her collection of poetry\, Unsalted Blue Sunrise: Poems of Lake Michigan\, provides the thematic framework for Veterans to compose works about their connections to our freshwater treasure as well as their connections to each other.This program has been generously funded by the National Endowment for the Arts’ Creative Forces initiative. \n\n\n\n\nregister
URL:https://brushwoodcenter.org/event/watercolor-for-the-soul-music-of-lake-michigan/
LOCATION:Brushwood Center at
CATEGORIES:Music Class
ATTACH;FMTTYPE=image/png:https://brushwoodcenter.org/wp-content/uploads/2024/11/Screenshot-2024-11-11-at-17-41-02-WATERCOLOR-2024-SQUARE-WORKSHOPS-1.pdf.png
END:VEVENT
BEGIN:VEVENT
DTSTART;TZID=America/Chicago:20250116T183000
DTEND;TZID=America/Chicago:20250116T193000
DTSTAMP:20260423T191043
CREATED:20250108T194307Z
LAST-MODIFIED:20250108T194309Z
UID:10000251-1737052200-1737055800@brushwoodcenter.org
SUMMARY:Art Social Hour for Women Veterans and Families
DESCRIPTION:Art Social Hour for Women Veterans and Families\n\n\n\nConnect with fellow women Veterans and family members around art and art-making! Socialize\, learn\, and grow your process as an artist as you connect with resources and community that support Veteran women artists. This is an informal social group\, not a formal skills class. \n\n\n\nIf you have any technical needs\, please email\, Veterans Program Specialist\, jklinge@brushwoodcenter.org.  \n\n\n\n\nRegister
URL:https://brushwoodcenter.org/event/art-social-hour-for-women-veterans-and-families-5/
LOCATION:Virtual
CATEGORIES:Virtual
ATTACH;FMTTYPE=image/jpeg:https://brushwoodcenter.org/wp-content/uploads/2024/03/paint-e1725050017285.jpg
END:VEVENT
BEGIN:VEVENT
DTSTART;TZID=America/Chicago:20250117T100000
DTEND;TZID=America/Chicago:20250117T113000
DTSTAMP:20260423T191043
CREATED:20241111T235354Z
LAST-MODIFIED:20241126T151849Z
UID:10000206-1737108000-1737113400@brushwoodcenter.org
SUMMARY:Water(color) for the Soul: Music of Lake Michigan
DESCRIPTION:Water(color) for the Soul: Music of Lake Michigan\n\n\n\nReturning by popular demand\, Black Moon Trio guides Veterans from the Captain James A. Lovell Federal Health Care Center and We Serve: Special Recreation Association for Central Lake County to create and perform their very own musical compositions. Using resources from Brushwood Center’s At Ease and Art Supply Exchange programs\, Veterans participate in a six-week graphic score and poetry composition residency culminating in the creation of 20 original pieces of music performed and recorded by professional musicians.Black Moon Trio is honored to again be joined by world-renowned botanical artist\, Heeyoung Kim and members of her Botanical Art Academy to showcase watercolor painting methods and techniques. Poet and creativity expert Kathryn Haydon also joins the team as her collection of poetry\, Unsalted Blue Sunrise: Poems of Lake Michigan\, provides the thematic framework for Veterans to compose works about their connections to our freshwater treasure as well as their connections to each other.This program has been generously funded by the National Endowment for the Arts’ Creative Forces initiative. \n\n\n\n\nregister
URL:https://brushwoodcenter.org/event/watercolor-for-the-soul-music-of-lake-michigan-2/
LOCATION:Brushwood Center at
CATEGORIES:Music Class
ATTACH;FMTTYPE=image/png:https://brushwoodcenter.org/wp-content/uploads/2024/11/Screenshot-2024-11-11-at-17-41-02-WATERCOLOR-2024-SQUARE-WORKSHOPS-1.pdf.png
END:VEVENT
BEGIN:VEVENT
DTSTART;TZID=America/Chicago:20250121T100000
DTEND;TZID=America/Chicago:20250121T113000
DTSTAMP:20260423T191043
CREATED:20241126T173347Z
LAST-MODIFIED:20241126T173404Z
UID:10000219-1737453600-1737459000@brushwoodcenter.org
SUMMARY:Art Impact Project
DESCRIPTION:Art Impact Project\n\n\n\nArt Impact Project facilitates supportive art projects designed to provide participants a different way to express themselves through art-making.  With a focus on emotional wellness through creative expression\, Art Impact Project’s small-group environment gives participants the chance to self-reflect and safely share their observations.  Each 90-minute session involves the completion of an art project from start to finish.  Projects will vary from week to week\, exploring various art media and objectives. \n\n\n\nParking is available outside of the building. Ask for the Veteran art program once in the building.  \n\n\n\nActivity Expectation: Indoor\, sitting\, cushions available Sensory Expectations: Indoor environment and forest landscape\, very little noise\, calming area\, natural area sounds Available Accommodations: No language interpretation available.Questions? Please contact Veterans Program Specialist\, Jessica Klinge at jklinge@brushwoodcenter.org. \n\n\n\n\nREGISTER
URL:https://brushwoodcenter.org/event/art-impact-project-7/
LOCATION:​Mundelein Park & Recreation Community Center\, ​888 Dunbar Road\, Mundelein\, IL\, 60060\, United States
CATEGORIES:Art Class
ATTACH;FMTTYPE=image/png:https://brushwoodcenter.org/wp-content/uploads/2024/08/Screenshot-2024-08-08-at-5.31.16 PM.png
END:VEVENT
BEGIN:VEVENT
DTSTART;TZID=America/Chicago:20250122T183000
DTEND;TZID=America/Chicago:20250122T210000
DTSTAMP:20260423T191043
CREATED:20241126T171753Z
LAST-MODIFIED:20241126T172127Z
UID:10000213-1737570600-1737579600@brushwoodcenter.org
SUMMARY:Veterans Acrylic Paint & Sip Nights
DESCRIPTION:Veterans Acrylic Paint & Sip Nights\n\n\n\nJoin us for a fun and relaxing acrylic paint event led by Veteran artists. ​This event promises to be both educational and therapeutic. Take home your own hand-painted masterpiece!All skill levels welcomed.Non-alcoholic drinks\, beer and wine will be available for purchase with the American Legion Cicero Post 96.​ Small snack items will be available for free.Brought to you by Brushwood Center’s At Ease Program\, Veteran Art Tribe\, and the American Legion Cicero Post #96!​Registration is required. \n\n\n\n\nREGISTER
URL:https://brushwoodcenter.org/event/veterans-acrylic-paint-sip-nights-6/
LOCATION:American Legion Cicero Post 96\, 5820 W 35th St\, Cicero\, Illinois\, 60804
CATEGORIES:Art Class
ATTACH;FMTTYPE=image/png:https://brushwoodcenter.org/wp-content/uploads/2024/08/Screenshot-2024-08-09-at-12.44.38 PM.png
END:VEVENT
BEGIN:VEVENT
DTSTART;TZID=America/Chicago:20250123T183000
DTEND;TZID=America/Chicago:20250123T200000
DTSTAMP:20260423T191043
CREATED:20241126T175815Z
LAST-MODIFIED:20241126T182015Z
UID:10000231-1737657000-1737662400@brushwoodcenter.org
SUMMARY:Watercolor Painting for Women Veterans and Families
DESCRIPTION:Watercolor Painting for Women Veterans and Families \n\n\n\nDevelop your unique artistic expression through watercolor painting. We will delight in the colorful\, transformative nature of the watercolor while also sharing factual information about the natural world and flowers. Student input and discussion are welcome!  \n\n\n\nClass taught by Gabrielle Tufano.—Art materials will be mailed to your home. Materials will be sent via Amazon\, you must register a week beforehand to receive materials. \n\n\n\nIf registering the day before or of the event\, please have your own materials at home – watercolor paint\, paper\, pencil.  \n\n\n\nActivity expectation is sitting. \n\n\n\nAvailable Accommodations: No language interpretation available. Virtual Class.  \n\n\n\n  \n\n\n\n\nREGIster
URL:https://brushwoodcenter.org/event/watercolor-painting-for-women-veterans-and-families-6/
LOCATION:
CATEGORIES:Virtual
ATTACH;FMTTYPE=image/png:https://brushwoodcenter.org/wp-content/uploads/2024/08/Screenshot-2024-08-09-at-1.05.24 PM.png
END:VEVENT
BEGIN:VEVENT
DTSTART;TZID=America/Chicago:20250124T100000
DTEND;TZID=America/Chicago:20250124T113000
DTSTAMP:20260423T191043
CREATED:20241111T235457Z
LAST-MODIFIED:20241126T151834Z
UID:10000207-1737712800-1737718200@brushwoodcenter.org
SUMMARY:Water(color) for the Soul: Music of Lake Michigan
DESCRIPTION:Water(color) for the Soul: Music of Lake Michigan\n\n\n\nReturning by popular demand\, Black Moon Trio guides Veterans from the Captain James A. Lovell Federal Health Care Center and We Serve: Special Recreation Association for Central Lake County to create and perform their very own musical compositions. Using resources from Brushwood Center’s At Ease and Art Supply Exchange programs\, Veterans participate in a six-week graphic score and poetry composition residency culminating in the creation of 20 original pieces of music performed and recorded by professional musicians.Black Moon Trio is honored to again be joined by world-renowned botanical artist\, Heeyoung Kim and members of her Botanical Art Academy to showcase watercolor painting methods and techniques. Poet and creativity expert Kathryn Haydon also joins the team as her collection of poetry\, Unsalted Blue Sunrise: Poems of Lake Michigan\, provides the thematic framework for Veterans to compose works about their connections to our freshwater treasure as well as their connections to each other.This program has been generously funded by the National Endowment for the Arts’ Creative Forces initiative. \n\n\n\n\nregister
URL:https://brushwoodcenter.org/event/watercolor-for-the-soul-music-of-lake-michigan-3/
LOCATION:Brushwood Center at
CATEGORIES:Music Class
ATTACH;FMTTYPE=image/png:https://brushwoodcenter.org/wp-content/uploads/2024/11/Screenshot-2024-11-11-at-17-41-02-WATERCOLOR-2024-SQUARE-WORKSHOPS-1.pdf.png
END:VEVENT
BEGIN:VEVENT
DTSTART;TZID=America/Chicago:20250125T100000
DTEND;TZID=America/Chicago:20250125T110000
DTSTAMP:20260423T191043
CREATED:20241209T210821Z
LAST-MODIFIED:20250317T182506Z
UID:10000243-1737799200-1737802800@brushwoodcenter.org
SUMMARY:¡Hola! Wiggleworms
DESCRIPTION:¡Hola! Wiggleworms \n\n\n\nThis program is ideal for children ages 1-5\, but open to younger and older siblings too! \n\n\n\n¡Hola! Wiggleworms celebrates being bilingual! Rooted in traditional folk songs from Spanish-speaking countries around the world\, the class is alive with singing\, dancing\, and musical discovery. Children and their families delight in the musical play of Wiggleworms while they explore the Spanish language and experience the joy of learning language through music. \n\n\n\nAs your little one grows\, together you’ll learn our core songs—a beautiful collection of traditional and contemporary sing-along songs. Expect this class to be full of movement\, interaction\, and musical play with puppets\, shakers\, and props as children explore their emerging language skills. \n\n\n\nIf you are bilingual or just learning the Spanish language\, come delight in this musical experience with your little one. You will go home singing together in Spanish. Everyone is welcome to sing and dance! \n\n\n\n__ \n\n\n\n¡Hola! Wiggleworms es una celebración bilingüe. Con canciones tradicionales del mundo hispano\, esta clase vive del canto\, danza y descubrimiento musical. Disfrutando con la música\, niños y niñas junto con sus familias emprenderán un viaje explorando la lengua castellana y disfrutando la experiencia de aprender un lenguaje por medio de la música.​Durante el crecimiento de tu pequeño\, aprenderemos nuestras canciones comunes – una hermosa recopilación de canciones tradicionales y contemporáneas. Anticipa que esta clase este llena de movimiento\, intercambio y juegos con la música usando marionetas\, maracas\, y materiales didácticos durante el proceso de exploración de su hijo(a) mientras se emerge en el lenguaje usando sus propias habilidades. \n\n\n\nSi eres bilingüe o estas aprendiendo castellano\, te invitamos a disfrutar de nuestra música junto a tu pequeño(a). ¡Juntos se irán a casa cantando en español! ¡Todos serán bienvenidos a cantar y jugar! \n\n\n\n\nREGISTER
URL:https://brushwoodcenter.org/event/hola-wiggleworms-3/
LOCATION:Brushwood Center at Ryerson Woods\, 21850 Riverwoods Rd.\, Riverwoods\, IL\, 60015\, United States
CATEGORIES:Family - Friendly,Music Class
ATTACH;FMTTYPE=image/png:https://brushwoodcenter.org/wp-content/uploads/2024/12/Wiggleworms-Square.png
END:VEVENT
BEGIN:VEVENT
DTSTART;TZID=America/Chicago:20250125T130000
DTEND;TZID=America/Chicago:20250125T150000
DTSTAMP:20260423T191043
CREATED:20250107T204306Z
LAST-MODIFIED:20250107T213207Z
UID:10000250-1737810000-1737817200@brushwoodcenter.org
SUMMARY:Singularity is a Forest Reception
DESCRIPTION:Singularity is a Forest Reception\n\n\n\nJoin us on Saturday\, January 25th to explore Singularity is a Forest at a reception and program at Brushwood Center at Ryerson Woods. \n\n\n\nSingularity is a Forest is an exhibition of photography and poetry by Mexico City artist Álvaro Alejandro López. \n\n\n\nHe describes his series: “In our different languages the trees are mainly a generic symbol. However\, if we contemplate them closely\, we will find in them the diverse and the singular.This series is an aesthetic approach to the features and scars that give life to the individuality of each tree.” \n\n\n\nThe reception will feature a forest bathing experience with Jess Rodriguez of Reciprocal Forest Bathing at 1:00 pm. This will take place outdoors\, please dress for the weather.  At 2:00 pm\, Kim Shearer of Morton Arboretum will lead a walk-through of the exhibition\, sharing her expertise on the science of trees.  \n\n\n\n\nRegister for the reception\n\n\n\n\nPresenters\n\n\n\n\nKim Shearer\n\n\n\nKim is the Curator of Collections and Manager of New Plant Development at the Morton Arboretum. Kim advances the Arboretum’s mission to make the world a greener\, healthier\, and more beautiful place by introducing plant selections with broad adaptability\, disease resistance\, and pest resistance. She is an expert on trees and shrubs.  \n\n\n\n\n\nJess Rodriguez\n\n\n\nJess Rodriguez is a certified forest bathing guide through the Association of Nature and Forest Bathing. Jessica was introduced to forest bathing in 2019 while interning in Costa Rica with a certified guide. Together\, they worked on a proposal to have forest bathing recognized as an official nature wellness practice by the Costa Rica Tourism Board (ICT).  \n\n\n\nIn 2021\, Jessica underwent a six month long training and four day intensive\, during which they developed a true sense of what it means to be a guide and work in partnership with the more-than-human-world. Jess is also the Coalition Building Manager at Brushwood Center.
URL:https://brushwoodcenter.org/event/singularity-is-a-forest-reception/
LOCATION:Brushwood Center at Ryerson Woods\, 21850 Riverwoods Rd.\, Riverwoods\, IL\, 60015\, United States
CATEGORIES:Art Exhibition
ATTACH;FMTTYPE=image/png:https://brushwoodcenter.org/wp-content/uploads/2024/12/Singularity-Web-Square.png
END:VEVENT
BEGIN:VEVENT
DTSTART;TZID=America/Chicago:20250131T100000
DTEND;TZID=America/Chicago:20250131T113000
DTSTAMP:20260423T191043
CREATED:20241111T235608Z
LAST-MODIFIED:20241126T151819Z
UID:10000208-1738317600-1738323000@brushwoodcenter.org
SUMMARY:Water(color) for the Soul: Music of Lake Michigan
DESCRIPTION:Water(color) for the Soul: Music of Lake Michigan\n\n\n\nReturning by popular demand\, Black Moon Trio guides Veterans from the Captain James A. Lovell Federal Health Care Center and We Serve: Special Recreation Association for Central Lake County to create and perform their very own musical compositions. Using resources from Brushwood Center’s At Ease and Art Supply Exchange programs\, Veterans participate in a six-week graphic score and poetry composition residency culminating in the creation of 20 original pieces of music performed and recorded by professional musicians.Black Moon Trio is honored to again be joined by world-renowned botanical artist\, Heeyoung Kim and members of her Botanical Art Academy to showcase watercolor painting methods and techniques. Poet and creativity expert Kathryn Haydon also joins the team as her collection of poetry\, Unsalted Blue Sunrise: Poems of Lake Michigan\, provides the thematic framework for Veterans to compose works about their connections to our freshwater treasure as well as their connections to each other.This program has been generously funded by the National Endowment for the Arts’ Creative Forces initiative. \n\n\n\n\nregister
URL:https://brushwoodcenter.org/event/watercolor-for-the-soul-music-of-lake-michigan-4/
LOCATION:Brushwood Center at
CATEGORIES:Music Class
ATTACH;FMTTYPE=image/png:https://brushwoodcenter.org/wp-content/uploads/2024/11/Screenshot-2024-11-11-at-17-41-02-WATERCOLOR-2024-SQUARE-WORKSHOPS-1.pdf.png
END:VEVENT
END:VCALENDAR