BEGIN:VCALENDAR
VERSION:2.0
PRODID:-//Brushwood Center - ECPv6.15.10//NONSGML v1.0//EN
CALSCALE:GREGORIAN
METHOD:PUBLISH
X-WR-CALNAME:Brushwood Center
X-ORIGINAL-URL:https://brushwoodcenter.org
X-WR-CALDESC:Events for Brushwood Center
REFRESH-INTERVAL;VALUE=DURATION:PT1H
X-Robots-Tag:noindex
X-PUBLISHED-TTL:PT1H
BEGIN:VTIMEZONE
TZID:America/Chicago
BEGIN:DAYLIGHT
TZOFFSETFROM:-0600
TZOFFSETTO:-0500
TZNAME:CDT
DTSTART:20240310T080000
END:DAYLIGHT
BEGIN:STANDARD
TZOFFSETFROM:-0500
TZOFFSETTO:-0600
TZNAME:CST
DTSTART:20241103T070000
END:STANDARD
BEGIN:DAYLIGHT
TZOFFSETFROM:-0600
TZOFFSETTO:-0500
TZNAME:CDT
DTSTART:20250309T080000
END:DAYLIGHT
BEGIN:STANDARD
TZOFFSETFROM:-0500
TZOFFSETTO:-0600
TZNAME:CST
DTSTART:20251102T070000
END:STANDARD
BEGIN:DAYLIGHT
TZOFFSETFROM:-0600
TZOFFSETTO:-0500
TZNAME:CDT
DTSTART:20260308T080000
END:DAYLIGHT
BEGIN:STANDARD
TZOFFSETFROM:-0500
TZOFFSETTO:-0600
TZNAME:CST
DTSTART:20261101T070000
END:STANDARD
END:VTIMEZONE
BEGIN:VEVENT
DTSTART;TZID=America/Chicago:20251213T190000
DTEND;TZID=America/Chicago:20251213T210000
DTSTAMP:20260423T061510
CREATED:20251106T152427Z
LAST-MODIFIED:20251124T214928Z
UID:10000343-1765652400-1765659600@brushwoodcenter.org
SUMMARY:Cocoa and a Concert: A Charlie Brown Christmas at Brushwood Center
DESCRIPTION:A Charlie Brown Christmas at Brushwood Center\n\n\n\nFeaturing the Kevin Fort Trio\n\n\n\nJoin us for a heartwarming evening of live jazz celebrating the timeless music from A Charlie Brown Christmas. Beloved by generations\, Vince Guaraldi’s iconic soundtrack captures the spirit of the holidays with swinging rhythms\, lyrical piano lines\, and joyful improvisation that bring Charles M. Schulz’s Peanuts characters to life. \n\n\n\nPerformed by the Kevin Fort Trio\, this concert features favorites such as “Linus and Lucy\,” “Christmas Time Is Here\,” and “Skating\,” along with other gems from Guaraldi’s catalog. Set amidst the natural beauty of Ryerson Woods\, this event invites audiences of all ages to experience the warmth\, nostalgia\, and pure jazz artistry that define this holiday classic. \n\n\n\nCome early to enjoy the festive atmosphere\, a homemade hot cocoa bar\, curated by Chef Lindsay Johnson\, and the company of fellow music lovers. Let the spirit of the season and the cool sounds of Vince Guaraldi fill your evening with joy and swing! \n\n\n\n\nGet Your Tickets
URL:https://brushwoodcenter.org/event/a-charlie-brown-christmas-at-brushwood-center/
LOCATION:Brushwood Center at Ryerson Woods\, 21850 Riverwoods Rd.\, Riverwoods\, IL\, 60015\, United States
CATEGORIES:Music Performance
ATTACH;FMTTYPE=image/png:https://brushwoodcenter.org/wp-content/uploads/2025/11/Screenshot-2025-11-06-at-09-17-03-charlie-brown-WEB-SQUARE.pdf.png
END:VEVENT
END:VCALENDAR