BEGIN:VCALENDAR
VERSION:2.0
PRODID:-//Brushwood Center - ECPv6.15.10//NONSGML v1.0//EN
CALSCALE:GREGORIAN
METHOD:PUBLISH
X-ORIGINAL-URL:https://brushwoodcenter.org
X-WR-CALDESC:Events for Brushwood Center
REFRESH-INTERVAL;VALUE=DURATION:PT1H
X-Robots-Tag:noindex
X-PUBLISHED-TTL:PT1H
BEGIN:VTIMEZONE
TZID:America/Chicago
BEGIN:DAYLIGHT
TZOFFSETFROM:-0600
TZOFFSETTO:-0500
TZNAME:CDT
DTSTART:20250309T080000
END:DAYLIGHT
BEGIN:STANDARD
TZOFFSETFROM:-0500
TZOFFSETTO:-0600
TZNAME:CST
DTSTART:20251102T070000
END:STANDARD
BEGIN:DAYLIGHT
TZOFFSETFROM:-0600
TZOFFSETTO:-0500
TZNAME:CDT
DTSTART:20260308T080000
END:DAYLIGHT
BEGIN:STANDARD
TZOFFSETFROM:-0500
TZOFFSETTO:-0600
TZNAME:CST
DTSTART:20261101T070000
END:STANDARD
BEGIN:DAYLIGHT
TZOFFSETFROM:-0600
TZOFFSETTO:-0500
TZNAME:CDT
DTSTART:20270314T080000
END:DAYLIGHT
BEGIN:STANDARD
TZOFFSETFROM:-0500
TZOFFSETTO:-0600
TZNAME:CST
DTSTART:20271107T070000
END:STANDARD
END:VTIMEZONE
BEGIN:VEVENT
DTSTART;TZID=America/Chicago:20260207T100000
DTEND;TZID=America/Chicago:20260207T110000
DTSTAMP:20260423T061106
CREATED:20251124T203859Z
LAST-MODIFIED:20251211T202127Z
UID:10000352-1770458400-1770462000@brushwoodcenter.org
SUMMARY:¡Hola! Wiggleworms: February 7
DESCRIPTION:¡Hola! Wiggleworms: February 7\n\n\n\nThis program is ideal for children ages 1-5\, but open to younger and older siblings too! \n\n\n\n¡Hola! Wiggleworms celebrates being bilingual! Rooted in traditional folk songs from Spanish-speaking countries around the world\, the class is alive with singing\, dancing\, and musical discovery. Children and their families delight in the musical play of Wiggleworms while they explore the Spanish language and experience the joy of learning language through music. \n\n\n\nAs your little one grows\, together you’ll learn our core songs—a beautiful collection of traditional and contemporary sing-along songs. Expect this class to be full of movement\, interaction\, and musical play with puppets\, shakers\, and props as children explore their emerging language skills. \n\n\n\nIf you are bilingual or just learning the Spanish language\, come delight in this musical experience with your little one. You will go home singing together in Spanish. Everyone is welcome to sing and dance! \n\n\n\n__ \n\n\n\n¡Hola! Wiggleworms es una celebración bilingüe. Con canciones tradicionales del mundo hispano\, esta clase vive del canto\, danza y descubrimiento musical. Disfrutando con la música\, niños y niñas junto con sus familias emprenderán un viaje explorando la lengua castellana y disfrutando la experiencia de aprender un lenguaje por medio de la música.​Durante el crecimiento de tu pequeño\, aprenderemos nuestras canciones comunes – una hermosa recopilación de canciones tradicionales y contemporáneas. Anticipa que esta clase este llena de movimiento\, intercambio y juegos con la música usando marionetas\, maracas\, y materiales didácticos durante el proceso de exploración de su hijo(a) mientras se emerge en el lenguaje usando sus propias habilidades. \n\n\n\nSi eres bilingüe o estas aprendiendo castellano\, te invitamos a disfrutar de nuestra música junto a tu pequeño(a). ¡Juntos se irán a casa cantando en español! ¡Todos serán bienvenidos a cantar y jugar! \n\n\n\n\nREGISTER
URL:https://brushwoodcenter.org/event/hola-wiggleworms-16/
LOCATION:Brushwood Center at Ryerson Woods\, 21850 Riverwoods Rd.\, Riverwoods\, IL\, 60015\, United States
CATEGORIES:Family - Friendly,Music Class
ATTACH;FMTTYPE=image/png:https://brushwoodcenter.org/wp-content/uploads/2024/12/Wiggleworms-Square.png
END:VEVENT
BEGIN:VEVENT
DTSTART;TZID=America/Chicago:20260214T100000
DTEND;TZID=America/Chicago:20260214T110000
DTSTAMP:20260423T061106
CREATED:20251124T204045Z
LAST-MODIFIED:20251211T202107Z
UID:10000353-1771063200-1771066800@brushwoodcenter.org
SUMMARY:¡Hola! Wiggleworms: February 14
DESCRIPTION:¡Hola! Wiggleworms: February 14\n\n\n\nThis program is ideal for children ages 1-5\, but open to younger and older siblings too! \n\n\n\n¡Hola! Wiggleworms celebrates being bilingual! Rooted in traditional folk songs from Spanish-speaking countries around the world\, the class is alive with singing\, dancing\, and musical discovery. Children and their families delight in the musical play of Wiggleworms while they explore the Spanish language and experience the joy of learning language through music. \n\n\n\nAs your little one grows\, together you’ll learn our core songs—a beautiful collection of traditional and contemporary sing-along songs. Expect this class to be full of movement\, interaction\, and musical play with puppets\, shakers\, and props as children explore their emerging language skills. \n\n\n\nIf you are bilingual or just learning the Spanish language\, come delight in this musical experience with your little one. You will go home singing together in Spanish. Everyone is welcome to sing and dance! \n\n\n\n__ \n\n\n\n¡Hola! Wiggleworms es una celebración bilingüe. Con canciones tradicionales del mundo hispano\, esta clase vive del canto\, danza y descubrimiento musical. Disfrutando con la música\, niños y niñas junto con sus familias emprenderán un viaje explorando la lengua castellana y disfrutando la experiencia de aprender un lenguaje por medio de la música.​Durante el crecimiento de tu pequeño\, aprenderemos nuestras canciones comunes – una hermosa recopilación de canciones tradicionales y contemporáneas. Anticipa que esta clase este llena de movimiento\, intercambio y juegos con la música usando marionetas\, maracas\, y materiales didácticos durante el proceso de exploración de su hijo(a) mientras se emerge en el lenguaje usando sus propias habilidades. \n\n\n\nSi eres bilingüe o estas aprendiendo castellano\, te invitamos a disfrutar de nuestra música junto a tu pequeño(a). ¡Juntos se irán a casa cantando en español! ¡Todos serán bienvenidos a cantar y jugar! \n\n\n\n\nREGISTER
URL:https://brushwoodcenter.org/event/hola-wiggleworms-17/
LOCATION:Brushwood Center at Ryerson Woods\, 21850 Riverwoods Rd.\, Riverwoods\, IL\, 60015\, United States
CATEGORIES:Family - Friendly,Music Class
ATTACH;FMTTYPE=image/png:https://brushwoodcenter.org/wp-content/uploads/2024/12/Wiggleworms-Square.png
END:VEVENT
END:VCALENDAR