BEGIN:VCALENDAR
VERSION:2.0
PRODID:-//Brushwood Center - ECPv6.15.10//NONSGML v1.0//EN
CALSCALE:GREGORIAN
METHOD:PUBLISH
X-ORIGINAL-URL:https://brushwoodcenter.org
X-WR-CALDESC:Events for Brushwood Center
REFRESH-INTERVAL;VALUE=DURATION:PT1H
X-Robots-Tag:noindex
X-PUBLISHED-TTL:PT1H
BEGIN:VTIMEZONE
TZID:America/Chicago
BEGIN:DAYLIGHT
TZOFFSETFROM:-0600
TZOFFSETTO:-0500
TZNAME:CDT
DTSTART:20250309T080000
END:DAYLIGHT
BEGIN:STANDARD
TZOFFSETFROM:-0500
TZOFFSETTO:-0600
TZNAME:CST
DTSTART:20251102T070000
END:STANDARD
BEGIN:DAYLIGHT
TZOFFSETFROM:-0600
TZOFFSETTO:-0500
TZNAME:CDT
DTSTART:20260308T080000
END:DAYLIGHT
BEGIN:STANDARD
TZOFFSETFROM:-0500
TZOFFSETTO:-0600
TZNAME:CST
DTSTART:20261101T070000
END:STANDARD
BEGIN:DAYLIGHT
TZOFFSETFROM:-0600
TZOFFSETTO:-0500
TZNAME:CDT
DTSTART:20270314T080000
END:DAYLIGHT
BEGIN:STANDARD
TZOFFSETFROM:-0500
TZOFFSETTO:-0600
TZNAME:CST
DTSTART:20271107T070000
END:STANDARD
END:VTIMEZONE
BEGIN:VEVENT
DTSTART;TZID=America/Chicago:20260301T130000
DTEND;TZID=America/Chicago:20260405T150000
DTSTAMP:20260419T081921
CREATED:20260202T191022Z
LAST-MODIFIED:20260318T153057Z
UID:10000402-1772370000-1775401200@brushwoodcenter.org
SUMMARY:Rest and Recharge: Practicing Radical Self Care in an Uncertain World
DESCRIPTION:Rest and Recharge: Practicing Radical Self Care in an Uncertain World\n\n\n\nRest and Recharge invites visitors into a spacious pause. In a world saturated with constant alerts\, urgent headlines\, and an unrelenting stream of information\, our nervous systems are rarely given time to settle. While some messages truly demand our immediate action\, many linger as ambient noise\, subtly shaping our thoughts\, elevating stress\, and eroding our capacity for presence and rest. \n\n\n\nThis exhibition acknowledges the quiet toll of that overload and offers a gentle counterbalance. Through visual art\, space\, and silence\, Rest and Recharge creates an environment that encourages slowing down\, tuning inward\, and reconnecting with rhythms that sustain us rather than deplete us. The works on view explore rest not as withdrawal or passivity\, but as an active\, necessary practice—one rooted in attention\, care\, and renewal. \n\n\n\nVisitors are invited to consider their own relationship to rest. What brings a sense of grounding or ease? What practices\, places\, or moments allow the body to soften and the mind to breathe? Set within the natural surroundings of Brushwood Center\, the exhibition becomes both a refuge and a prompt—an opportunity to step away from urgency and to remember that rest is not a luxury\, but an essential part of resilience and creativity. \n\n\n\n\nLearn More
URL:https://brushwoodcenter.org/event/rest-and-recharge-practicing-self-care-in-an-uncertain-world/
LOCATION:Brushwood Center at Ryerson Woods\, 21850 Riverwoods Rd.\, Riverwoods\, IL\, 60015\, United States
CATEGORIES:Art Exhibition
ATTACH;FMTTYPE=image/png:https://brushwoodcenter.org/wp-content/uploads/2026/02/Screenshot-2026-02-02-at-12-27-31-REST-WEB-SQUARE.pdf.png
END:VEVENT
END:VCALENDAR