BEGIN:VCALENDAR
VERSION:2.0
PRODID:-//Brushwood Center - ECPv6.15.10//NONSGML v1.0//EN
CALSCALE:GREGORIAN
METHOD:PUBLISH
X-WR-CALNAME:Brushwood Center
X-ORIGINAL-URL:https://brushwoodcenter.org
X-WR-CALDESC:Events for Brushwood Center
REFRESH-INTERVAL;VALUE=DURATION:PT1H
X-Robots-Tag:noindex
X-PUBLISHED-TTL:PT1H
BEGIN:VTIMEZONE
TZID:America/Chicago
BEGIN:DAYLIGHT
TZOFFSETFROM:-0600
TZOFFSETTO:-0500
TZNAME:CDT
DTSTART:20250309T080000
END:DAYLIGHT
BEGIN:STANDARD
TZOFFSETFROM:-0500
TZOFFSETTO:-0600
TZNAME:CST
DTSTART:20251102T070000
END:STANDARD
BEGIN:DAYLIGHT
TZOFFSETFROM:-0600
TZOFFSETTO:-0500
TZNAME:CDT
DTSTART:20260308T080000
END:DAYLIGHT
BEGIN:STANDARD
TZOFFSETFROM:-0500
TZOFFSETTO:-0600
TZNAME:CST
DTSTART:20261101T070000
END:STANDARD
BEGIN:DAYLIGHT
TZOFFSETFROM:-0600
TZOFFSETTO:-0500
TZNAME:CDT
DTSTART:20270314T080000
END:DAYLIGHT
BEGIN:STANDARD
TZOFFSETFROM:-0500
TZOFFSETTO:-0600
TZNAME:CST
DTSTART:20271107T070000
END:STANDARD
END:VTIMEZONE
BEGIN:VEVENT
DTSTART;TZID=America/Chicago:20260412T130000
DTEND;TZID=America/Chicago:20260503T150000
DTSTAMP:20260423T212441
CREATED:20260319T175703Z
LAST-MODIFIED:20260415T195059Z
UID:10000428-1775998800-1777820400@brushwoodcenter.org
SUMMARY:Healing Together: The Artwork of TIERRA
DESCRIPTION:Healing Together: The Artwork of TIERRA\n\n\n\nHealing Together: The Artwork of TIERRA features artwork created by facilitators of and participants in the TIERRA program—Transforming Internal Experiences for Resilience and Restoration through Acceptance—a research-informed\, nature-based training program that supports Community Health Workers serving communities across Lake County\, Illinois. \n\n\n\nTIERRA equips Community Health Workers with tools to address the interconnected challenges of trauma\, health disparities\, and environmental injustice. Rooted in mindfulness\, restorative practices\, and the healing presence of nature\, the program creates space for participants to explore their own experiences while strengthening their capacity to care for others. \n\n\n\nThrough visual art\, reflection\, and creative expression\, participants in this program have translated their personal and professional journeys into powerful works that speak to resilience\, healing\, and connection to the land. The pieces on display offer insight into the inner landscapes of those working at the front lines of community health. These are individuals who navigate complex social and environmental challenges while supporting the wellbeing of others. \n\n\n\nCreated during guided sessions that integrated nature observation\, contemplative practice\, and artistic exploration\, the artworks reflect themes of renewal\, rootedness\, and collective care. Plants\, seasonal cycles\, and the natural rhythms of the landscape serve as both inspiration and metaphor for growth and restoration. \n\n\n\nBy sharing these works with the public\, the exhibition honors the vital role Community Health Workers play in building healthier\, more equitable communities. \n\n\n\n\nLearn more about the exhibition
URL:https://brushwoodcenter.org/event/healing-together-the-artwork-of-tierra/
LOCATION:Brushwood Center at Ryerson Woods\, 21850 Riverwoods Rd.\, Riverwoods\, IL\, 60015\, United States
CATEGORIES:Art Exhibition
ATTACH;FMTTYPE=image/png:https://brushwoodcenter.org/wp-content/uploads/2026/03/Screenshot-2026-03-19-at-12-45-51-TIERRA-EX-WEB-SQUARE.pdf.png
END:VEVENT
BEGIN:VEVENT
DTSTART;TZID=America/Chicago:20260423T183000
DTEND;TZID=America/Chicago:20260423T200000
DTSTAMP:20260423T212441
CREATED:20260121T203227Z
LAST-MODIFIED:20260121T203235Z
UID:10000390-1776969000-1776974400@brushwoodcenter.org
SUMMARY:Watercolor Painting for Women Veterans and Families
DESCRIPTION:Watercolor Painting for Women Veterans and Families \n\n\n\nDevelop your unique artistic expression through watercolor painting. We will delight in the colorful\, transformative nature of the watercolor while also sharing factual information about the natural world and flowers. Student input and discussion are welcome!  \n\n\n\nClass taught by Gabrielle Tufano.—Art materials will be mailed to your home. Materials will be sent via Amazon\, you must register a week beforehand to receive materials. \n\n\n\nIf registering the day before or of the event\, please have your own materials at home – watercolor paint\, paper\, pencil.  \n\n\n\nActivity expectation is sitting. \n\n\n\nAvailable Accommodations: No language interpretation available. Virtual Class.  \n\n\n\n  \n\n\n\n\nREGIster
URL:https://brushwoodcenter.org/event/watercolor-painting-for-women-veterans-and-families-21/
LOCATION:
CATEGORIES:Veteran Event
ATTACH;FMTTYPE=image/png:https://brushwoodcenter.org/wp-content/uploads/2024/08/Screenshot-2024-08-09-at-1.05.24 PM.png
END:VEVENT
END:VCALENDAR